BEGIN:VCALENDAR
VERSION:2.0
PRODID:-//The Training Brokers
CALSCALE:GREGORIAN
METHOD:PUBLISH
X-WR-CALNAME:The Training Brokers
X-ORIGINAL-URL:https://thetrainingbrokers.co.uk/event/level-2-support-work-in-schools-level-2-children-and-young-peoples-mental-health/
X-WR-CALDESC:Level 2 Support Work in Schools &#038; Level 2 Children and Young People&#8217;s Mental Health
BEGIN:VEVENT
DTSTART:20200515T093000
DTEND:20210223T150000
SUMMARY:Level 2 Support Work in Schools &#038; Level 2 Children and Young People&#8217;s Mental Health
DESCRIPTION:
LOCATION:The Training Brokers
END:VEVENT
END:VCALENDAR
